BEGIN:VCALENDAR
VERSION:2.0
PRODID:-//Addiscombe Amateur Radio Club - ECPv6.15.20//NONSGML v1.0//EN
CALSCALE:GREGORIAN
METHOD:PUBLISH
X-ORIGINAL-URL:https://addiscombe.club
X-WR-CALDESC:Events for Addiscombe Amateur Radio Club
REFRESH-INTERVAL;VALUE=DURATION:PT1H
X-Robots-Tag:noindex
X-PUBLISHED-TTL:PT1H
BEGIN:VTIMEZONE
TZID:UTC
BEGIN:STANDARD
TZOFFSETFROM:+0000
TZOFFSETTO:+0000
TZNAME:UTC
DTSTART:20240101T000000
END:STANDARD
END:VTIMEZONE
BEGIN:VEVENT
DTSTART;TZID=UTC:20250104T130000
DTEND;TZID=UTC:20250104T170000
DTSTAMP:20260423T043133
CREATED:20250103T101932Z
LAST-MODIFIED:20250103T101932Z
UID:924-1735995600-1736010000@addiscombe.club
SUMMARY:RSGB AFS CW
DESCRIPTION:https://www.rsgbcc.org/hf/rules/2025/rafs.shtml
URL:https://addiscombe.club/event/rsgb-afs-cw/
END:VEVENT
END:VCALENDAR