BEGIN:VCALENDAR
VERSION:2.0
PRODID:-//Addiscombe Amateur Radio Club - ECPv6.15.20//NONSGML v1.0//EN
CALSCALE:GREGORIAN
METHOD:PUBLISH
X-WR-CALNAME:Addiscombe Amateur Radio Club
X-ORIGINAL-URL:https://addiscombe.club
X-WR-CALDESC:Events for Addiscombe Amateur Radio Club
REFRESH-INTERVAL;VALUE=DURATION:PT1H
X-Robots-Tag:noindex
X-PUBLISHED-TTL:PT1H
BEGIN:VTIMEZONE
TZID:UTC
BEGIN:STANDARD
TZOFFSETFROM:+0000
TZOFFSETTO:+0000
TZNAME:UTC
DTSTART:20240101T000000
END:STANDARD
END:VTIMEZONE
BEGIN:VEVENT
DTSTART;TZID=UTC:20250202T090000
DTEND;TZID=UTC:20250202T130000
DTSTAMP:20260423T030140
CREATED:20250127T093715Z
LAST-MODIFIED:20250127T093715Z
UID:932-1738486800-1738501200@addiscombe.club
SUMMARY:432 MHz AFS
DESCRIPTION:https://www.rsgbcc.org/cgi-bin/contest_rules.pl?year=2025&contest=afs432MHz
URL:https://addiscombe.club/event/432-mhz-afs/
END:VEVENT
END:VCALENDAR