BEGIN:VCALENDAR
VERSION:2.0
PRODID:-//Addiscombe Amateur Radio Club - ECPv6.15.20//NONSGML v1.0//EN
CALSCALE:GREGORIAN
METHOD:PUBLISH
X-ORIGINAL-URL:https://addiscombe.club
X-WR-CALDESC:Events for Addiscombe Amateur Radio Club
REFRESH-INTERVAL;VALUE=DURATION:PT1H
X-Robots-Tag:noindex
X-PUBLISHED-TTL:PT1H
BEGIN:VTIMEZONE
TZID:UTC
BEGIN:STANDARD
TZOFFSETFROM:+0000
TZOFFSETTO:+0000
TZNAME:UTC
DTSTART:20240101T000000
END:STANDARD
END:VTIMEZONE
BEGIN:VEVENT
DTSTART;TZID=UTC:20250705T140000
DTEND;TZID=UTC:20250706T140000
DTSTAMP:20260422T180132
CREATED:20250320T102251Z
LAST-MODIFIED:20250320T102251Z
UID:956-1751724000-1751810400@addiscombe.club
SUMMARY:VHF National Field Day
DESCRIPTION:https://www.rsgbcc.org/vhf/rules/2025/VHFNFD.shtml
URL:https://addiscombe.club/event/vhf-national-field-day-3/
END:VEVENT
END:VCALENDAR