BEGIN:VCALENDAR
VERSION:2.0
PRODID:-//Addiscombe Amateur Radio Club - ECPv6.15.20//NONSGML v1.0//EN
CALSCALE:GREGORIAN
METHOD:PUBLISH
X-WR-CALNAME:Addiscombe Amateur Radio Club
X-ORIGINAL-URL:https://addiscombe.club
X-WR-CALDESC:Events for Addiscombe Amateur Radio Club
REFRESH-INTERVAL;VALUE=DURATION:PT1H
X-Robots-Tag:noindex
X-PUBLISHED-TTL:PT1H
BEGIN:VTIMEZONE
TZID:UTC
BEGIN:STANDARD
TZOFFSETFROM:+0000
TZOFFSETTO:+0000
TZNAME:UTC
DTSTART:20240101T000000
END:STANDARD
END:VTIMEZONE
BEGIN:VEVENT
DTSTART;TZID=UTC:20251108T200000
DTEND;TZID=UTC:20251108T230000
DTSTAMP:20260422T220105
CREATED:20250320T100007Z
LAST-MODIFIED:20250320T100655Z
UID:940-1762632000-1762642800@addiscombe.club
SUMMARY:RSGB 1.8MHz AFS (Club Calls) Contest
DESCRIPTION:https://www.rsgbcc.org/hf/rules/2025/rclubcalls.shtml
URL:https://addiscombe.club/event/50mhz-afs-contest-2/
END:VEVENT
BEGIN:VEVENT
DTSTART;TZID=UTC:20251207T100000
DTEND;TZID=UTC:20251207T140000
DTSTAMP:20260422T220105
CREATED:20250320T101117Z
LAST-MODIFIED:20250320T101117Z
UID:947-1765101600-1765116000@addiscombe.club
SUMMARY:144MHz AFS Contest
DESCRIPTION:https://www.rsgbcc.org/cgi-bin/contest_rules.pl?year=2025&contest=afs144MHz
URL:https://addiscombe.club/event/144mhz-afs-contest/
END:VEVENT
BEGIN:VEVENT
DTSTART;TZID=UTC:20260208T090000
DTEND;TZID=UTC:20260208T130000
DTSTAMP:20260422T220105
CREATED:20250320T102812Z
LAST-MODIFIED:20250320T102812Z
UID:958-1770541200-1770555600@addiscombe.club
SUMMARY:432MHz AFS
DESCRIPTION:https://www.rsgbcc.org/cgi-bin/contest_rules.pl?year=2026&contest=afs432MHz&seq=
URL:https://addiscombe.club/event/432mhz-afs-2/
END:VEVENT
END:VCALENDAR