BEGIN:VCALENDAR
VERSION:2.0
PRODID:-//Addiscombe Amateur Radio Club - ECPv6.15.20//NONSGML v1.0//EN
CALSCALE:GREGORIAN
METHOD:PUBLISH
X-WR-CALNAME:Addiscombe Amateur Radio Club
X-ORIGINAL-URL:https://addiscombe.club
X-WR-CALDESC:Events for Addiscombe Amateur Radio Club
REFRESH-INTERVAL;VALUE=DURATION:PT1H
X-Robots-Tag:noindex
X-PUBLISHED-TTL:PT1H
BEGIN:VTIMEZONE
TZID:UTC
BEGIN:STANDARD
TZOFFSETFROM:+0000
TZOFFSETTO:+0000
TZNAME:UTC
DTSTART:20200101T000000
END:STANDARD
END:VTIMEZONE
BEGIN:VEVENT
DTSTART;TZID=UTC:20210810T190000
DTEND;TZID=UTC:20210810T213000
DTSTAMP:20260423T225902
CREATED:20210810T091427Z
LAST-MODIFIED:20210810T091427Z
UID:175-1628622000-1628631000@addiscombe.club
SUMMARY:432MHz UKAC
DESCRIPTION:These contests are timed to coincide with the last two hours of a number of European activity contests\, with an extra half hour at the end to encourage intra UK&CD activity. They take place on Tuesdays from 2000-2230 local time with 144 MHz on the 1st Tuesday of the month\, 432 MHz on the 2nd Tuesday\, 1.3 GHz on the 3rd Tuesday\, and 13cms to 3cms on the 4th Tuesday and on Thursdays from 2000-2230 with 50MHz on the 2nd Thursday and 70 MHz on the 3rd Thursday in the month.
URL:https://addiscombe.club/event/432mhz-ukac/
END:VEVENT
END:VCALENDAR