BEGIN:VCALENDAR
VERSION:2.0
PRODID:-//Addiscombe Amateur Radio Club - ECPv6.15.20//NONSGML v1.0//EN
CALSCALE:GREGORIAN
METHOD:PUBLISH
X-WR-CALNAME:Addiscombe Amateur Radio Club
X-ORIGINAL-URL:https://addiscombe.club
X-WR-CALDESC:Events for Addiscombe Amateur Radio Club
REFRESH-INTERVAL;VALUE=DURATION:PT1H
X-Robots-Tag:noindex
X-PUBLISHED-TTL:PT1H
BEGIN:VTIMEZONE
TZID:UTC
BEGIN:STANDARD
TZOFFSETFROM:+0000
TZOFFSETTO:+0000
TZNAME:UTC
DTSTART:20240101T000000
END:STANDARD
END:VTIMEZONE
BEGIN:VEVENT
DTSTART;TZID=UTC:20251019T090000
DTEND;TZID=UTC:20251019T130000
DTSTAMP:20260422T113228
CREATED:20250320T100950Z
LAST-MODIFIED:20250320T100950Z
UID:945-1760864400-1760878800@addiscombe.club
SUMMARY:50MHz AFS Contest
DESCRIPTION:https://www.rsgbcc.org/cgi-bin/contest_rules.pl?year=2025&contest=2nd50MHz
URL:https://addiscombe.club/event/50mhz-afs-contest-3/
END:VEVENT
END:VCALENDAR